BEGIN:VCALENDAR
VERSION:2.0
PRODID:-//MultiKultiChor Bonn e.V. - ECPv6.15.20//NONSGML v1.0//EN
CALSCALE:GREGORIAN
METHOD:PUBLISH
X-WR-CALNAME:MultiKultiChor Bonn e.V.
X-ORIGINAL-URL:https://multikultichor.de
X-WR-CALDESC:Veranstaltungen für MultiKultiChor Bonn e.V.
REFRESH-INTERVAL;VALUE=DURATION:PT1H
X-Robots-Tag:noindex
X-PUBLISHED-TTL:PT1H
BEGIN:VTIMEZONE
TZID:Europe/Berlin
BEGIN:DAYLIGHT
TZOFFSETFROM:+0100
TZOFFSETTO:+0200
TZNAME:CEST
DTSTART:20250330T010000
END:DAYLIGHT
BEGIN:STANDARD
TZOFFSETFROM:+0200
TZOFFSETTO:+0100
TZNAME:CET
DTSTART:20251026T010000
END:STANDARD
BEGIN:DAYLIGHT
TZOFFSETFROM:+0100
TZOFFSETTO:+0200
TZNAME:CEST
DTSTART:20260329T010000
END:DAYLIGHT
BEGIN:STANDARD
TZOFFSETFROM:+0200
TZOFFSETTO:+0100
TZNAME:CET
DTSTART:20261025T010000
END:STANDARD
BEGIN:DAYLIGHT
TZOFFSETFROM:+0100
TZOFFSETTO:+0200
TZNAME:CEST
DTSTART:20270328T010000
END:DAYLIGHT
BEGIN:STANDARD
TZOFFSETFROM:+0200
TZOFFSETTO:+0100
TZNAME:CET
DTSTART:20271031T010000
END:STANDARD
END:VTIMEZONE
BEGIN:VEVENT
DTSTART;TZID=Europe/Berlin:20260509T132000
DTEND;TZID=Europe/Berlin:20260509T140000
DTSTAMP:20260424T144040
CREATED:20260311T130546Z
LAST-MODIFIED:20260331T151911Z
UID:2356-1778332800-1778335200@multikultichor.de
SUMMARY:Multikultichor beim Bonner Europafest am 9. Mai 2026
DESCRIPTION:Am 9. Mai\, von 13.20 bis 14.00 Uhr tritt der Multikultichor beim Europafest auf dem Bonner Marktplatz auf. Das Fest steht in diesem Jahr unter dem Motto „Ein Europa\, viele Perspektiven“. Der Multikultichor wird Lieder aus seinem Weltmusik-Repertoire singen.
URL:https://multikultichor.de/event/am-17-mai-ab-1100-uhr-tritt-der-multikultichor-beim-europafest-auf-dem-bonner-marktplatz-auf-das-fest-steht-in-diesem-jahr-unter-dem-motto-ein-europa-viele-perspektiven-der-mul/
END:VEVENT
END:VCALENDAR